BEGIN:VCALENDAR
VERSION:2.0
PRODID:-//Kawa No Oka Bonsai - ECPv6.15.11//NONSGML v1.0//EN
CALSCALE:GREGORIAN
METHOD:PUBLISH
X-WR-CALNAME:Kawa No Oka Bonsai
X-ORIGINAL-URL:https://kawanookabonsai.com
X-WR-CALDESC:Events for Kawa No Oka Bonsai
REFRESH-INTERVAL;VALUE=DURATION:PT1H
X-Robots-Tag:noindex
X-PUBLISHED-TTL:PT1H
BEGIN:VTIMEZONE
TZID:UTC
BEGIN:STANDARD
TZOFFSETFROM:+0000
TZOFFSETTO:+0000
TZNAME:UTC
DTSTART:20210101T000000
END:STANDARD
END:VTIMEZONE
BEGIN:VEVENT
DTSTART;VALUE=DATE:20230909
DTEND;VALUE=DATE:20230911
DTSTAMP:20260423T193409
CREATED:20230720T201121Z
LAST-MODIFIED:20230720T201121Z
UID:4981-1694217600-1694390399@kawanookabonsai.com
SUMMARY:8th US Bonsai National Bonsai Exhibition
DESCRIPTION:We are very proud to be vending and exhibiting at the US Nationals this year!
URL:https://kawanookabonsai.com/event/8th-us-bonsai-national-bonsai-exhibition/
CATEGORIES:Exhibition,Vending
END:VEVENT
BEGIN:VEVENT
DTSTART;VALUE=DATE:20230818
DTEND;VALUE=DATE:20230821
DTSTAMP:20260423T193409
CREATED:20230720T195824Z
LAST-MODIFIED:20230720T195824Z
UID:4978-1692316800-1692575999@kawanookabonsai.com
SUMMARY:Mid American Bonsai Exhibition
DESCRIPTION:We will be vending\, doing a workshop\, and exhibiting in Chicago again this year. Come see us!
URL:https://kawanookabonsai.com/event/mid-american-bonsai-exhibition/
LOCATION:Chicago Bontanic Gardens\, 1000 Lake Cook Rd\, Glencoe\, IL\, 60022
CATEGORIES:Exhibition,Vending
END:VEVENT
BEGIN:VEVENT
DTSTART;VALUE=DATE:20220924
DTEND;VALUE=DATE:20220926
DTSTAMP:20260423T193409
CREATED:20220713T151230Z
LAST-MODIFIED:20220823T184132Z
UID:1528-1663977600-1664150399@kawanookabonsai.com
SUMMARY:Columbus Bonsai Society 50th Annual Bonsai Show
DESCRIPTION:
URL:https://kawanookabonsai.com/event/columbus-bonsai-society-50th-annual-bonsai-show/
LOCATION:Dawes Arboretum\, 7770 Jacksontown Rd\, Newark\, Ohio\, 43056
CATEGORIES:Exhibition,Vending
END:VEVENT
BEGIN:VEVENT
DTSTART;VALUE=DATE:20220819
DTEND;VALUE=DATE:20220822
DTSTAMP:20260423T193409
CREATED:20211221T203127Z
LAST-MODIFIED:20220823T184156Z
UID:849-1660867200-1661126399@kawanookabonsai.com
SUMMARY:44th Annual Mid-American Bonsai Exhibition
DESCRIPTION:You can find us this year in person at the Mid-American Bonsai Exhibition in Chicago IL.
URL:https://kawanookabonsai.com/event/44th-annual-mid-american-bonsai-exhibition/
LOCATION:Chicago Bontanic Gardens\, 1000 Lake Cook Rd\, Glencoe\, IL\, 60022
CATEGORIES:Exhibition,Vending
ATTACH;FMTTYPE=image/png:https://kawanookabonsai.com/wp-content/uploads/2021/12/MidwestBonsaiSocietyLogo.png
END:VEVENT
END:VCALENDAR